BEGIN:VCALENDAR
VERSION:2.0
PRODID:-//Tennisclub Baiersdorf e.V. - ECPv6.15.20//NONSGML v1.0//EN
CALSCALE:GREGORIAN
METHOD:PUBLISH
X-ORIGINAL-URL:https://www.tc-baiersdorf.de
X-WR-CALDESC:Veranstaltungen für Tennisclub Baiersdorf e.V.
REFRESH-INTERVAL;VALUE=DURATION:PT1H
X-Robots-Tag:noindex
X-PUBLISHED-TTL:PT1H
BEGIN:VTIMEZONE
TZID:Europe/Berlin
BEGIN:DAYLIGHT
TZOFFSETFROM:+0100
TZOFFSETTO:+0200
TZNAME:CEST
DTSTART:20220327T010000
END:DAYLIGHT
BEGIN:STANDARD
TZOFFSETFROM:+0200
TZOFFSETTO:+0100
TZNAME:CET
DTSTART:20221030T010000
END:STANDARD
BEGIN:DAYLIGHT
TZOFFSETFROM:+0100
TZOFFSETTO:+0200
TZNAME:CEST
DTSTART:20230326T010000
END:DAYLIGHT
BEGIN:STANDARD
TZOFFSETFROM:+0200
TZOFFSETTO:+0100
TZNAME:CET
DTSTART:20231029T010000
END:STANDARD
BEGIN:DAYLIGHT
TZOFFSETFROM:+0100
TZOFFSETTO:+0200
TZNAME:CEST
DTSTART:20240331T010000
END:DAYLIGHT
BEGIN:STANDARD
TZOFFSETFROM:+0200
TZOFFSETTO:+0100
TZNAME:CET
DTSTART:20241027T010000
END:STANDARD
BEGIN:DAYLIGHT
TZOFFSETFROM:+0100
TZOFFSETTO:+0200
TZNAME:CEST
DTSTART:20250330T010000
END:DAYLIGHT
BEGIN:STANDARD
TZOFFSETFROM:+0200
TZOFFSETTO:+0100
TZNAME:CET
DTSTART:20251026T010000
END:STANDARD
BEGIN:DAYLIGHT
TZOFFSETFROM:+0100
TZOFFSETTO:+0200
TZNAME:CEST
DTSTART:20260329T010000
END:DAYLIGHT
BEGIN:STANDARD
TZOFFSETFROM:+0200
TZOFFSETTO:+0100
TZNAME:CET
DTSTART:20261025T010000
END:STANDARD
END:VTIMEZONE
BEGIN:VEVENT
DTSTART;TZID=Europe/Berlin:20250426T120000
DTEND;TZID=Europe/Berlin:20250426T200000
DTSTAMP:20260424T165444
CREATED:20250413T211635Z
LAST-MODIFIED:20250413T211641Z
UID:436-1745668800-1745697600@www.tc-baiersdorf.de
SUMMARY:Saisoneröffnungsturnier 2025
DESCRIPTION:
URL:https://www.tc-baiersdorf.de/event/saisoneroeffnungsturnier-2025/
CATEGORIES:Turniere
END:VEVENT
BEGIN:VEVENT
DTSTART;TZID=Europe/Berlin:20240427T120000
DTEND;TZID=Europe/Berlin:20240427T180000
DTSTAMP:20260424T165444
CREATED:20240330T074553Z
LAST-MODIFIED:20240330T074553Z
UID:397-1714219200-1714240800@www.tc-baiersdorf.de
SUMMARY:Saisoneröffnungsturnier
DESCRIPTION:Zum Start der Saison 2024 findet am Samstag den 27.04.2024 ab 12:00 Uhr wieder unser Spiel + Spaß Mixed-Turnier für alle von 8-88 Jahren statt! \nUm 16:00 Uhr sind alle Mitglieder und Eltern zu unserem Grillbuffet eingeladen. Getränke und Fleisch sind organisiert\, jetzt benötigen wir nur noch Salatspenden für unser Buffet.
URL:https://www.tc-baiersdorf.de/event/saisoneroeffnungsturnier/
CATEGORIES:Turniere
END:VEVENT
BEGIN:VEVENT
DTSTART;TZID=Europe/Berlin:20240413T090000
DTEND;TZID=Europe/Berlin:20240413T120000
DTSTAMP:20260424T165444
CREATED:20240330T074901Z
LAST-MODIFIED:20240330T074901Z
UID:399-1712998800-1713009600@www.tc-baiersdorf.de
SUMMARY:Arbeitsdienst
DESCRIPTION:es ist wieder Zeit\, unsere Clubanlage auf die Spielsaison 2024 vorzubereiten.\nWir benötigen daher eure tatkräftige Unterstützung am 13.04.2024 in der Zeit von 09:00 – ca. 12:00 Uhr.\nBitte denkt an Arbeitshandschuhe und robuste Kleidung.
URL:https://www.tc-baiersdorf.de/event/arbeitsdienst-2/
END:VEVENT
BEGIN:VEVENT
DTSTART;TZID=Europe/Berlin:20230924T120000
DTEND;TZID=Europe/Berlin:20230924T190000
DTSTAMP:20260424T165444
CREATED:20230919T193904Z
LAST-MODIFIED:20230919T193904Z
UID:388-1695556800-1695582000@www.tc-baiersdorf.de
SUMMARY:Saisonabschluss Turnier
DESCRIPTION:siehe https://www.tc-baiersdorf.de/2023/09/19/saisonabschluss/
URL:https://www.tc-baiersdorf.de/event/saisonabschluss-turnier/
END:VEVENT
BEGIN:VEVENT
DTSTART;TZID=Europe/Berlin:20230606T180000
DTEND;TZID=Europe/Berlin:20230606T200000
DTSTAMP:20260424T165444
CREATED:20230412T210033Z
LAST-MODIFIED:20230506T183345Z
UID:306-1686074400-1686081600@www.tc-baiersdorf.de
SUMMARY:Women’s Day - jeden Dienstag
DESCRIPTION:Der Tennisclub Baiersdorf möchte gerade Neu- und Wiedereinsteigern die Möglichkeit geben Tennis als Freizeitsport in einer angenehmen Atmosphäre betreiben zu können. Wir bieten 6 gut gepflegte Tennisplätze\, ein gemütliches Clubhaus und die Möglichkeit neue Tennispartner kennenzulernen. \nFür Hobbyspieler haben wir  in jeder Woche am Dienstag Plätze reserviert. Auch interessierte Nichtmitglieder sind herzlich willkommen. Beim Saisonauftakt möchten wir dich zu einer kleinen Brotzeit einladen\, komm vorbei oder sende eine Mail an Dirk Sunderbrink zweitervorstand@tc-baiersdorf.de
URL:https://www.tc-baiersdorf.de/event/womens-day/
CATEGORIES:Training
END:VEVENT
BEGIN:VEVENT
DTSTART;TZID=Europe/Berlin:20230606T170000
DTEND;TZID=Europe/Berlin:20230606T190000
DTSTAMP:20260424T165444
CREATED:20230412T205847Z
LAST-MODIFIED:20230506T183504Z
UID:304-1686070800-1686078000@www.tc-baiersdorf.de
SUMMARY:Mixed Doppel - jeden Dienstag
DESCRIPTION:Der Tennisclub Baiersdorf möchte gerade Neu- und Wiedereinsteigern die Möglichkeit geben Tennis als Freizeitsport in einer angenehmen Atmosphäre betreiben zu können. Wir bieten 6 gut gepflegte Tennisplätze\, ein gemütliches Clubhaus und die Möglichkeit neue Tennispartner kennenzulernen. \nFür Hobbyspieler haben wir  in jeder Woche am Dienstag Plätze reserviert. Auch interessierte Nichtmitglieder sind herzlich willkommen. Beim Saisonauftakt möchten wir dich zu einer kleinen Brotzeit einladen\, komm vorbei oder sende eine Mail an Dirk Sunderbrink zweitervorstand@tc-baiersdorf.de
URL:https://www.tc-baiersdorf.de/event/mixed-doppel/
CATEGORIES:Training
END:VEVENT
BEGIN:VEVENT
DTSTART;TZID=Europe/Berlin:20230605T180000
DTEND;TZID=Europe/Berlin:20230605T200000
DTSTAMP:20260424T165444
CREATED:20230412T205408Z
LAST-MODIFIED:20230506T183426Z
UID:301-1685988000-1685995200@www.tc-baiersdorf.de
SUMMARY:Men's day - jeden Montag
DESCRIPTION:Der Tennisclub Baiersdorf möchte gerade Neu- und Wiedereinsteigern die Möglichkeit geben Tennis als Freizeitsport in einer angenehmen Atmosphäre betreiben zu können. Wir bieten 6 gut gepflegte Tennisplätze\, ein gemütliches Clubhaus und die Möglichkeit neue Tennispartner kennenzulernen. \nFür Hobbyspieler haben wir in jeder Woche am Montag Plätze reserviert. Auch interessierte Nichtmitglieder sind herzlich willkommen. Beim Saisonauftakt möchten wir dich zu einer kleinen Brotzeit einladen\, komm vorbei oder sende eine Mail an Dirk Sunderbrink zweitervorstand@tc-baiersdorf.de
URL:https://www.tc-baiersdorf.de/event/mens-day/
CATEGORIES:Training
END:VEVENT
BEGIN:VEVENT
DTSTART;TZID=Europe/Berlin:20230430T120000
DTEND;TZID=Europe/Berlin:20230430T170000
DTSTAMP:20260424T165444
CREATED:20230412T203733Z
LAST-MODIFIED:20230419T082800Z
UID:294-1682856000-1682874000@www.tc-baiersdorf.de
SUMMARY:Eröffnungsturnier
DESCRIPTION:Nach erfolgreicher Frühjahrsinstandsetzung der Anlage veranstalten wir ein Eröffnungsturnier für alle Altersgruppen\, gespielt wird in gemischten Doppeln. Den Tag beschließen wir mit einem Grillabend. Alle Mitglieder und Gäste sind herzlich eingeladen.
URL:https://www.tc-baiersdorf.de/event/eroeffnungsturnier/
CATEGORIES:Turniere
ATTACH;FMTTYPE=image/png:https://www.tc-baiersdorf.de/wp-content/uploads/2023/04/icons8-tennisball-64.png
END:VEVENT
BEGIN:VEVENT
DTSTART;TZID=Europe/Berlin:20230422T093000
DTEND;TZID=Europe/Berlin:20230422T140000
DTSTAMP:20260424T165444
CREATED:20230412T204728Z
LAST-MODIFIED:20230417T071202Z
UID:299-1682155800-1682172000@www.tc-baiersdorf.de
SUMMARY:Arbeitsdienst
DESCRIPTION:Am Samstag den 22.04.23 – 09:30 – 14:00 erfolgt ein Arbeitsdienst zur Vorbereitung der Plätze. Bitte nutzt den Eingang Schlangenbach\, da wegen Straßenbauarbeiten der Haupteingang gesperrt ist.
URL:https://www.tc-baiersdorf.de/event/arbeitsdienst/
CATEGORIES:Gemeinsamer Arbeitsdienst
END:VEVENT
END:VCALENDAR